BEGIN:VCALENDAR
VERSION:2.0
PRODID:-//ChurchDev//Events//EN
CALSCALE:GREGORIAN
METHOD:PUBLISH
BEGIN:VEVENT
UID:6276-20260405@www.albrightumcscpa.org
SUMMARY:Easter Service &#8211\; Albright
DTSTART:20260405T144500Z
DTEND:20260405T154500Z
DESCRIPTION:https://www.albrightumcscpa.org/events/easter-service-albright/
URL:https://www.albrightumcscpa.org/events/easter-service-albright/
DTSTAMP:20260419T215411Z
END:VEVENT
END:VCALENDAR
