BEGIN:VCALENDAR
VERSION:2.0
PRODID:-//ChurchDev//Events//EN
CALSCALE:GREGORIAN
METHOD:PUBLISH
BEGIN:VEVENT
UID:6193-20260421@www.albrightumcscpa.org
SUMMARY:CACM
DTSTART:20260421T140000Z
DTEND:20260421T170000Z
DESCRIPTION:https://www.albrightumcscpa.org/events/cacm-3/
URL:https://www.albrightumcscpa.org/events/cacm-3/
DTSTAMP:20260419T215412Z
END:VEVENT
END:VCALENDAR
